BEGIN:VCALENDAR
VERSION:2.0
PRODID:-//Texas Al-Anon / Alateen - ECPv6.15.20//NONSGML v1.0//EN
CALSCALE:GREGORIAN
METHOD:PUBLISH
X-ORIGINAL-URL:https://texas-al-anon.org
X-WR-CALDESC:Events for Texas Al-Anon / Alateen
REFRESH-INTERVAL;VALUE=DURATION:PT1H
X-Robots-Tag:noindex
X-PUBLISHED-TTL:PT1H
BEGIN:VTIMEZONE
TZID:America/Chicago
BEGIN:DAYLIGHT
TZOFFSETFROM:-0600
TZOFFSETTO:-0500
TZNAME:CDT
DTSTART:20120311T080000
END:DAYLIGHT
BEGIN:STANDARD
TZOFFSETFROM:-0500
TZOFFSETTO:-0600
TZNAME:CST
DTSTART:20121104T070000
END:STANDARD
BEGIN:DAYLIGHT
TZOFFSETFROM:-0600
TZOFFSETTO:-0500
TZNAME:CDT
DTSTART:20130310T080000
END:DAYLIGHT
BEGIN:STANDARD
TZOFFSETFROM:-0500
TZOFFSETTO:-0600
TZNAME:CST
DTSTART:20131103T070000
END:STANDARD
BEGIN:DAYLIGHT
TZOFFSETFROM:-0600
TZOFFSETTO:-0500
TZNAME:CDT
DTSTART:20140309T080000
END:DAYLIGHT
BEGIN:STANDARD
TZOFFSETFROM:-0500
TZOFFSETTO:-0600
TZNAME:CST
DTSTART:20141102T070000
END:STANDARD
BEGIN:DAYLIGHT
TZOFFSETFROM:-0600
TZOFFSETTO:-0500
TZNAME:CDT
DTSTART:20150308T080000
END:DAYLIGHT
BEGIN:STANDARD
TZOFFSETFROM:-0500
TZOFFSETTO:-0600
TZNAME:CST
DTSTART:20151101T070000
END:STANDARD
END:VTIMEZONE
BEGIN:VEVENT
DTSTART;TZID=America/Chicago:20140402T100000
DTEND;TZID=America/Chicago:20140402T140000
DTSTAMP:20260424T130813
CREATED:20140304T144039Z
LAST-MODIFIED:20140304T144039Z
UID:2544-1396432800-1396447200@texas-al-anon.org
SUMMARY:TCC South Health Fair
DESCRIPTION:TCC South Health Fair 2014\nSouth Campus\n5301 Campus Drive\nFort Worth\, TX  76119\nWednesday\, April 2\, 2014\n10 am – 2 pm
URL:https://texas-al-anon.org/event/tcc-south-health-fair/
LOCATION:TCC South Campus\, 5301 Campus Drive\, Fort Worth\, TX\, 76119\, United States
CATEGORIES:Bilingual needed,Service Opportunities
ORGANIZER;CN="Karen B":MAILTO:karenfbr@verizon.net 
END:VEVENT
BEGIN:VEVENT
DTSTART;TZID=America/Chicago:20140222T020000
DTEND;TZID=America/Chicago:20140222T160000
DTSTAMP:20260424T130813
CREATED:20140127T143334Z
LAST-MODIFIED:20140127T143334Z
UID:2407-1393034400-1393084800@texas-al-anon.org
SUMMARY:19th Anniversary of Luz de Esperanza
DESCRIPTION:flyer- en espanol & english \nOn the occasion of our XIX Anniversary of our Family Group Al-Anon\n“Luz de Esperanza”\nInformation to Spanish speaking public on \nSaturday February 22\, 2014 at 2pm Taft 3410 \n(behind Bruce & Graciela Redwine Student Wellness Center) \nMSU\nWichita Falls Texas 76308\nFor more information call:\nElsa R. (940) 224-1926 / Maria A (940) 867-5769
URL:https://texas-al-anon.org/event/19th-anniversary-of-luz-de-esperanza/
LOCATION:MSU\, 3410 Taft\, Wichita Falls\, TX\, 76308\, United States
CATEGORIES:Bilingual needed,Conferences and Conventions,Service Opportunities,Workshops and Speaker Meetings
END:VEVENT
BEGIN:VEVENT
DTSTART;TZID=America/Chicago:20131023T100000
DTEND;TZID=America/Chicago:20131023T140000
DTSTAMP:20260424T130813
CREATED:20130925T191115Z
LAST-MODIFIED:20130925T191115Z
UID:1986-1382522400-1382536800@texas-al-anon.org
SUMMARY:Health Fair and Blood Drive
DESCRIPTION:Please volunteer for any amount of time you have available to hand out information about Al-Anon to the attendees of this health fair and blood drive. \nTCC Southeast Campus\nHealth Fair and Blood Drive\n2100 Southeast Parkway Arlington\, TX 76018 \nWednesday\, October 23\, 2013 10 am to 2 pm
URL:https://texas-al-anon.org/event/health-fair-and-blood-drive/
LOCATION:TCC Southeast Campus\, 2100 Southeast Parkway\, Arlington\, TX\, 76018\, United States
CATEGORIES:Service Opportunities
ORGANIZER;CN="Karen B":MAILTO:karenfbr@verizon.net 
END:VEVENT
BEGIN:VEVENT
DTSTART;TZID=America/Chicago:20131010T090000
DTEND;TZID=America/Chicago:20131010T140000
DTSTAMP:20260424T130813
CREATED:20130809T204558Z
LAST-MODIFIED:20130912T224959Z
UID:1849-1381395600-1381413600@texas-al-anon.org
SUMMARY:Public Outreach Booth- FtWorth retiree benefits fair
DESCRIPTION:Please contact Karen for more information or to sign up for a shift from 9a to 2p.
URL:https://texas-al-anon.org/event/publicoutreachfair/
LOCATION:Will Rogers Memorial Center\, 3400 Burnett Tandy Drive\, Fort Worth\, TX\, 76107\, United States
CATEGORIES:Service Opportunities
ORGANIZER;CN="Karen B":MAILTO:karenfbr@verizon.net 
END:VEVENT
BEGIN:VEVENT
DTSTART;TZID=America/Chicago:20131009T090000
DTEND;TZID=America/Chicago:20131009T140000
DTSTAMP:20260424T130813
CREATED:20130627T152422Z
LAST-MODIFIED:20130627T152422Z
UID:1670-1381309200-1381327200@texas-al-anon.org
SUMMARY:Health Fair and Blood Drive- TCC Northeast
DESCRIPTION:
URL:https://texas-al-anon.org/event/health-fair-and-blood-drive-tcc-northeast/
LOCATION:TCC Northeast Campus\, Center Corner (Room 1615A – NSTU)\, 828 W. Harwood Road\, Hurst\, TX\, 76054\, United States
CATEGORIES:Bilingual needed,Service Opportunities
ORGANIZER;CN="Karen B":MAILTO:karenfbr@verizon.net
END:VEVENT
BEGIN:VEVENT
DTSTART;TZID=America/Chicago:20130915T140000
DTEND;TZID=America/Chicago:20130915T170000
DTSTAMP:20260424T130813
CREATED:20130823T012836Z
LAST-MODIFIED:20130823T012836Z
UID:1916-1379253600-1379264400@texas-al-anon.org
SUMMARY:West District 14 meeting
DESCRIPTION:District 14 Celebration planning meeting.
URL:https://texas-al-anon.org/event/west-district-14-meeting/
LOCATION:Serenity Seekers Group\, First Baptist Church\, 2045 Bedford Rd\, Bedford\, TX\, 76021\, United States
CATEGORIES:Service Opportunities
ORGANIZER;CN="Judy B":MAILTO:judy5551212@yahoo.com
END:VEVENT
BEGIN:VEVENT
DTSTART;TZID=America/Chicago:20130807T080000
DTEND;TZID=America/Chicago:20130807T140000
DTSTAMP:20260424T130813
CREATED:20130627T152935Z
LAST-MODIFIED:20130627T152935Z
UID:1676-1375862400-1375884000@texas-al-anon.org
SUMMARY:Tarrant County Back to School Roundup- Exhibitor Booths
DESCRIPTION:service opportunity- bilingual support greatly appreciated.
URL:https://texas-al-anon.org/event/tarrant-county-back-to-school-roundup-exhibitor-booths-2/
LOCATION:Amon G. Carter Jr. Exhibit Hall\, Will Rogers Memorial Center\, 3400 Burnett Tandy Drive\, Fort Worth\, TX\, 76107\, United States
CATEGORIES:Bilingual needed,Service Opportunities
ORGANIZER;CN="Karen B":MAILTO:karenfbr@verizon.net
END:VEVENT
BEGIN:VEVENT
DTSTART;TZID=America/Chicago:20130803T090000
DTEND;TZID=America/Chicago:20130803T140000
DTSTAMP:20260424T130813
CREATED:20130729T024905Z
LAST-MODIFIED:20130729T024905Z
UID:1783-1375520400-1375538400@texas-al-anon.org
SUMMARY:Hispanic Wellness Coalition
DESCRIPTION:15th Annual Hispanic Wellness Fair- Spanish speaking not required \nWill Rogers Memorial Center- Amon Carter Exhibit Hall \n 
URL:https://texas-al-anon.org/event/hispanic-wellness-coalition/
LOCATION:Amon G. Carter Jr. Exhibit Hall\, Will Rogers Center\, 3400 Burnett Tandy Drive\, Fort Worth\, TX\, 76107\, United States
CATEGORIES:Bilingual needed,Service Opportunities
ORGANIZER;CN="Karen B":MAILTO:karenfbr@verizon.net 
END:VEVENT
END:VCALENDAR