BEGIN:VCALENDAR
VERSION:2.0
PRODID:-//Texas Al-Anon / Alateen - ECPv6.15.20//NONSGML v1.0//EN
CALSCALE:GREGORIAN
METHOD:PUBLISH
X-ORIGINAL-URL:https://texas-al-anon.org
X-WR-CALDESC:Events for Texas Al-Anon / Alateen
REFRESH-INTERVAL;VALUE=DURATION:PT1H
X-Robots-Tag:noindex
X-PUBLISHED-TTL:PT1H
BEGIN:VTIMEZONE
TZID:America/Chicago
BEGIN:DAYLIGHT
TZOFFSETFROM:-0600
TZOFFSETTO:-0500
TZNAME:CDT
DTSTART:20120311T080000
END:DAYLIGHT
BEGIN:STANDARD
TZOFFSETFROM:-0500
TZOFFSETTO:-0600
TZNAME:CST
DTSTART:20121104T070000
END:STANDARD
BEGIN:DAYLIGHT
TZOFFSETFROM:-0600
TZOFFSETTO:-0500
TZNAME:CDT
DTSTART:20130310T080000
END:DAYLIGHT
BEGIN:STANDARD
TZOFFSETFROM:-0500
TZOFFSETTO:-0600
TZNAME:CST
DTSTART:20131103T070000
END:STANDARD
BEGIN:DAYLIGHT
TZOFFSETFROM:-0600
TZOFFSETTO:-0500
TZNAME:CDT
DTSTART:20140309T080000
END:DAYLIGHT
BEGIN:STANDARD
TZOFFSETFROM:-0500
TZOFFSETTO:-0600
TZNAME:CST
DTSTART:20141102T070000
END:STANDARD
BEGIN:DAYLIGHT
TZOFFSETFROM:-0600
TZOFFSETTO:-0500
TZNAME:CDT
DTSTART:20150308T080000
END:DAYLIGHT
BEGIN:STANDARD
TZOFFSETFROM:-0500
TZOFFSETTO:-0600
TZNAME:CST
DTSTART:20151101T070000
END:STANDARD
BEGIN:DAYLIGHT
TZOFFSETFROM:-0600
TZOFFSETTO:-0500
TZNAME:CDT
DTSTART:20160313T080000
END:DAYLIGHT
BEGIN:STANDARD
TZOFFSETFROM:-0500
TZOFFSETTO:-0600
TZNAME:CST
DTSTART:20161106T070000
END:STANDARD
BEGIN:DAYLIGHT
TZOFFSETFROM:-0600
TZOFFSETTO:-0500
TZNAME:CDT
DTSTART:20170312T080000
END:DAYLIGHT
BEGIN:STANDARD
TZOFFSETFROM:-0500
TZOFFSETTO:-0600
TZNAME:CST
DTSTART:20171105T070000
END:STANDARD
BEGIN:DAYLIGHT
TZOFFSETFROM:-0600
TZOFFSETTO:-0500
TZNAME:CDT
DTSTART:20180311T080000
END:DAYLIGHT
BEGIN:STANDARD
TZOFFSETFROM:-0500
TZOFFSETTO:-0600
TZNAME:CST
DTSTART:20181104T070000
END:STANDARD
BEGIN:DAYLIGHT
TZOFFSETFROM:-0600
TZOFFSETTO:-0500
TZNAME:CDT
DTSTART:20190310T080000
END:DAYLIGHT
BEGIN:STANDARD
TZOFFSETFROM:-0500
TZOFFSETTO:-0600
TZNAME:CST
DTSTART:20191103T070000
END:STANDARD
BEGIN:DAYLIGHT
TZOFFSETFROM:-0600
TZOFFSETTO:-0500
TZNAME:CDT
DTSTART:20200308T080000
END:DAYLIGHT
BEGIN:STANDARD
TZOFFSETFROM:-0500
TZOFFSETTO:-0600
TZNAME:CST
DTSTART:20201101T070000
END:STANDARD
BEGIN:DAYLIGHT
TZOFFSETFROM:-0600
TZOFFSETTO:-0500
TZNAME:CDT
DTSTART:20210314T080000
END:DAYLIGHT
BEGIN:STANDARD
TZOFFSETFROM:-0500
TZOFFSETTO:-0600
TZNAME:CST
DTSTART:20211107T070000
END:STANDARD
BEGIN:DAYLIGHT
TZOFFSETFROM:-0600
TZOFFSETTO:-0500
TZNAME:CDT
DTSTART:20220313T080000
END:DAYLIGHT
BEGIN:STANDARD
TZOFFSETFROM:-0500
TZOFFSETTO:-0600
TZNAME:CST
DTSTART:20221106T070000
END:STANDARD
BEGIN:DAYLIGHT
TZOFFSETFROM:-0600
TZOFFSETTO:-0500
TZNAME:CDT
DTSTART:20230312T080000
END:DAYLIGHT
BEGIN:STANDARD
TZOFFSETFROM:-0500
TZOFFSETTO:-0600
TZNAME:CST
DTSTART:20231105T070000
END:STANDARD
BEGIN:DAYLIGHT
TZOFFSETFROM:-0600
TZOFFSETTO:-0500
TZNAME:CDT
DTSTART:20240310T080000
END:DAYLIGHT
BEGIN:STANDARD
TZOFFSETFROM:-0500
TZOFFSETTO:-0600
TZNAME:CST
DTSTART:20241103T070000
END:STANDARD
BEGIN:DAYLIGHT
TZOFFSETFROM:-0600
TZOFFSETTO:-0500
TZNAME:CDT
DTSTART:20250309T080000
END:DAYLIGHT
BEGIN:STANDARD
TZOFFSETFROM:-0500
TZOFFSETTO:-0600
TZNAME:CST
DTSTART:20251102T070000
END:STANDARD
END:VTIMEZONE
BEGIN:VEVENT
DTSTART;VALUE=DATE:20240209
DTEND;VALUE=DATE:20240212
DTSTAMP:20260422T053434
CREATED:20240124T032650Z
LAST-MODIFIED:20240124T033608Z
UID:11116-1707436800-1707695999@texas-al-anon.org
SUMMARY:ATAAC 2024
DESCRIPTION:The All-Texas Al-Anon / Alateen Conference
URL:https://texas-al-anon.org/event/ataac-2024/
LOCATION:Courtyard by Marriott Austin Pflugerville\, 16100 Impact Way\, Pflugerville\, TX\, 78660
CATEGORIES:Conferences and Conventions
END:VEVENT
BEGIN:VEVENT
DTSTART;VALUE=DATE:20180518
DTEND;VALUE=DATE:20180521
DTSTAMP:20260422T053434
CREATED:20180126T221939Z
LAST-MODIFIED:20180126T222224Z
UID:6318-1526601600-1526860799@texas-al-anon.org
SUMMARY:23rd Annual Mouth of the Brazos Conference
DESCRIPTION:“We found the great reality” from page 55 \nFriday\, May 18\, 2018 – Sunday\, May 20\, 2018 \nLake Jackson Civic Center \nRegistration \nAA / Al-Anon Pre-Registration – $15.00\nAA / Al-Anon On-Site Registration – $20.00\nAlateen registration – $5.00 \nPre-Registration Cutoff Date: 5/10/2018 \nDoor Prize Drawings for Pre-Registrants \nHotels close to the Civic Center \nCandlewood Suites (979) 297-0011\nComfort Suites (979) 297-5545\nBest Western (979) 529-2020\nQuality Inn (979) 265-8460\nMainstay Suites (979) 388-9300\nTexas Inn & Suites (979) 266-7774 \nFor further information email: Mobregistration@outlook.com \nView Event Flyer
URL:https://texas-al-anon.org/event/23rd-annual-mouth-of-the-brazos-conference/
LOCATION:Lake Jackson Civic Center\, 333 Highway 332\, Lake Jackson\, TX\, 77566\, United States
CATEGORIES:Conferences and Conventions
END:VEVENT
BEGIN:VEVENT
DTSTART;VALUE=DATE:20180216
DTEND;VALUE=DATE:20180219
DTSTAMP:20260422T053434
CREATED:20170928T140127Z
LAST-MODIFIED:20180201T212330Z
UID:6052-1518739200-1518998399@texas-al-anon.org
SUMMARY:Area 53 - 39th Annual All Texas Al-Anon/Alateen Conference
DESCRIPTION:I Carry Your Heart  \nFebruary 16-18\, 2018 \nHilton San Antonio Airport Hotel \nRoom Rate:\n$107.00 Single/Double\nincludes 2 breakfast coupons per room \nFor Hotel Reservations: call 888-728-3031\nMention ALTX for the special room rates. \nHotel Reservations Deadline is January 18\, 2018. \nFor More Information \nClick here to download conference schedule \nSpeakers: \nAngie B\, AFG\, Destin\, FL\nBo T\, AFG\, West Blocton\, AL\nAmanda B\, AA\, Montgomery\, AL\nAlateen Panel Discussion\nAlice K\, AFG\, Lunch Speaker\nMagdalena E\, AFG (Spanish)\, WA\nVicky A\, AFG\, Blaine\, MN \nFor More Information
URL:https://texas-al-anon.org/event/39th-annual-all-texas-al-anonalateen-conference/
LOCATION:Airport Hilton Hotel\, 611 N.W. Loop 410\, San Antonio\, TX\, 78216\, United States
CATEGORIES:Conferences and Conventions
ORGANIZER;CN="Nancy M.":MAILTO:nanmate@gvtc.com 
END:VEVENT
BEGIN:VEVENT
DTSTART;VALUE=DATE:20180202
DTEND;VALUE=DATE:20180205
DTSTAMP:20260422T053434
CREATED:20180126T220755Z
LAST-MODIFIED:20180126T220849Z
UID:6311-1517529600-1517788799@texas-al-anon.org
SUMMARY:64th Annual Coastal Bend Jamboree
DESCRIPTION:“Life Will Mean Something At Last” \nFebruary 2 – 4th \nOmni Bayfront Hotel \nRoom Rate: $121\nGroup Code: 14500813554\nGood Thru 1/3/18 \nReserve by Phone or Online @\nwww.cbjamboree.org \nView Event Flyer and Schedule
URL:https://texas-al-anon.org/event/64th-annual-coastal-bend-jamboree/
LOCATION:Omni Bayfront Hotel\, 900 North Shoreline Blvd.\, Corpus Christi\, TX\, 78401\, United States
CATEGORIES:Conferences and Conventions
END:VEVENT
BEGIN:VEVENT
DTSTART;VALUE=DATE:20171110
DTEND;VALUE=DATE:20171112
DTSTAMP:20260422T053434
CREATED:20170524T213616Z
LAST-MODIFIED:20171101T211947Z
UID:5872-1510272000-1510444799@texas-al-anon.org
SUMMARY:IV Convencion Al-Anon/Alateen Estatal Hispana De Texas
DESCRIPTION:“EN BUSCA DE LA LIBERTAD” \n          VIERNES 10 Y SABADO 11 DE  NOVIEMBRE\, 2017 \nHoliday Inn\nReservaciónes al (281) 876-7378 (clave) Al-Anon Convention\n         Cuartos de doble cama: Costo $82.00 por Día    \nEstimados miembros les hacemos una cordial invitación\nA ser parte de este Maravilloso Viaje de Recuperación \nLes pedimos que hagan sus reservaciones directo al Hotel \nPre-registración: $10  \nCena Baile: $20  \nAl-Anon$10\nAlateen$5\nAA$10 \nFLYER \nSi tiene preguntas favor de llamar a la tesorera Hilda G. (832) 714-4447\no al 713-649-3122. Mande su registración antes posible en cheque o money\norder a la tesorera Hilda Gutiérrez 5926 Southmund\, Houston\, TX 77033\,\nCarmen R. 713-259-6894 coordinadora
URL:https://texas-al-anon.org/event/iv-convencion-al-anonalateen-estatal-hispana-de-texas/
LOCATION:Holiday Inn\, 125 AIRTEX DR\, HOUSTON \, TX\, 77090\, United States
CATEGORIES:Conferences and Conventions
END:VEVENT
BEGIN:VEVENT
DTSTART;TZID=America/Chicago:20170217T160000
DTEND;TZID=America/Chicago:20170219T120000
DTSTAMP:20260422T053434
CREATED:20170115T160557Z
LAST-MODIFIED:20170115T160754Z
UID:5540-1487347200-1487505600@texas-al-anon.org
SUMMARY:38th Annual All Texas Al-Anon/Alateen Conference
DESCRIPTION:L.o.v.e. Is … Letting Others Voluntarily Evolve\n38th Annual All Texas Al-Anon/Alateen Conference \nFebruary 17-19\, 2017 \n\nAIRPORT HILTON HOTEL\nReservations Deadline is January 18\, 2017\n(Mention ALTX for the special room rates)\nFor Hotel Reservations: Call 888-728-3031\nREGISTRATION FORM (Mail-in Deadline is February 10th) \nTO REGISTER: Return this flyer or go on-line at www.ataactx.com \n 
URL:https://texas-al-anon.org/event/38th-annual-all-texas-al-anonalateen-conference/
LOCATION:Airport Hilton Hotel\, 611 N.W. Loop 410\, San Antonio\, TX\, 78216\, United States
CATEGORIES:Conferences and Conventions
END:VEVENT
BEGIN:VEVENT
DTSTART;VALUE=DATE:20160826
DTEND;VALUE=DATE:20160827
DTSTAMP:20260422T053434
CREATED:20160806T170535Z
LAST-MODIFIED:20160806T170626Z
UID:5099-1472169600-1472255999@texas-al-anon.org
SUMMARY:III HISPANIC AL-ANON & ALATEEN STATE CONVENTION
DESCRIPTION:III HISPANIC STATE CONVENTION\nAL-ANON & ALATEEN\nWITH PARTICIPATION FROM AA\nHOTEL RESERVATIONS\nSINGLE BED$89 – DOUBLE BED$99 \nREGISTRATION\nEVENT$10 – DINNER-DANCE$35\nCOMBO EVENT/DINNER-DANCE$40 \nTHIS IS A SPANISH LANGUAGE EVENT \nSIMULTANEOUS ENGLISH AUDIO WILL BE AVAILABLE \nEvent Flyer – JPG\nEvent Flyer – PDF
URL:https://texas-al-anon.org/event/iii-hispanic-al-anon-alateen-state-convention/
LOCATION:Holiday Inn NW – Sea World\, 10135 STATE HWY 151\, San Antonio\, TX\, 78251\, United States
CATEGORIES:Conferences and Conventions
END:VEVENT
BEGIN:VEVENT
DTSTART;VALUE=DATE:20160708
DTEND;VALUE=DATE:20160711
DTSTAMP:20260422T053434
CREATED:20160427T223001Z
LAST-MODIFIED:20160427T223334Z
UID:4784-1467936000-1468195199@texas-al-anon.org
SUMMARY:Louisiana Al-Anon State Convention 2016
DESCRIPTION:For more Information\nTo Register
URL:https://texas-al-anon.org/event/louisiana-al-anon-state-convention-2016/
LOCATION:Double Tree by Hilton\, 1512 Pinhook Road\, Lafayette\, LA\, 70503\, United States
CATEGORIES:Conferences and Conventions
END:VEVENT
BEGIN:VEVENT
DTSTART;TZID=America/Chicago:20160429T080000
DTEND;TZID=America/Chicago:20160501T170000
DTSTAMP:20260422T053434
CREATED:20150609T183844Z
LAST-MODIFIED:20150609T183844Z
UID:4066-1461916800-1462122000@texas-al-anon.org
SUMMARY:Texas East Area 53 Alateen Conference
DESCRIPTION:TEA AC 2016\nTexas East Area 53 Alateen Conference \nApril 29th – May 1st\, 2016 \n $90.00 per person \nAlateens must be 13-19 years old and be regularly attending\nAlateen meeting for at least 6 weeks prior to Conference. \nEmail questions to: norwar2000@yahoo.com \nEvent Flyer
URL:https://texas-al-anon.org/event/texas-east-area-53-alateen-conference/
LOCATION:Dicsiples Conference Center\, 673 Private Road 3381\, Gonzales\, TX\, 78629
CATEGORIES:Conferences and Conventions
END:VEVENT
BEGIN:VEVENT
DTSTART;TZID=America/Chicago:20160219T150000
DTEND;TZID=America/Chicago:20160221T170000
DTSTAMP:20260422T053434
CREATED:20150518T161248Z
LAST-MODIFIED:20160123T020438Z
UID:4000-1455894000-1456074000@texas-al-anon.org
SUMMARY:37th All Texas Al-Anon Alateen Conference
DESCRIPTION:Love Is……\n37th All Texas Al-Anon Alateen Conference \nSave the Date!\nFebruary 19th – 21st\, 2016 \nWestin DFW Airport Hotel\n4545 West John Carpenter Freeway\, Irving\, Texas 75063\nReservations: 1-800-937-8461\nLocally: 972-929-4500\nRoom rate $94.00 – King or Double\nDeadline for Reservations is January 26\, 2015 \nEmail questions to: ataac2015@outlook.com
URL:https://texas-al-anon.org/event/37th-all-texas-al-anon-alateen-conference/
LOCATION:Westin DFW Airport Hotel\, 4545 West John W Carpenter Freeway\, Irving\, TX\, 75063\, United States
CATEGORIES:Conferences and Conventions
END:VEVENT
BEGIN:VEVENT
DTSTART;TZID=America/Chicago:20151001T080000
DTEND;TZID=America/Chicago:20151004T170000
DTSTAMP:20260422T053434
CREATED:20150331T201724Z
LAST-MODIFIED:20150904T144130Z
UID:3807-1443686400-1443978000@texas-al-anon.org
SUMMARY:69th Annual Top of Texas Roundup
DESCRIPTION:69th Annual Top of Texas Roundup – October 1-4\, 2015\n\nAA conference with Al-Anon participation.\nFlyer:  69th Flyer Top of Texas 2015\nRegistration Form: Top of TX printed Registeration Form 2015\n\nAmarillo Inn & Suites (Used to be Clarion Hotel)\n1911 I-40 E.\nAmarillo\, TX 79102\n806-372-8741\n\n\nAl-Anon speaker Sat.\, Oct. 3\, 11:00 a.m. \n\nSaturday   10/3/2015\nRegistration & Hospitality open at 8:00 AM \nAA & Al-Anon Speakers 9th Step Workshop by 9:30 AM\nAl-Anon Speaker – Julie B. – Indianapolis IN 11:00 AM. \nBarbeque by Wilson F. 12:00 PM until 2:00 PM\nCOUNTDOWN – 7:30 PM \n\n\nSunday   10/4/2015\nAl-Anon Speaker – Tom B. Norman OK 9:30 AM\nAA Speaker – Bill C. – Los Angeles CA 11:00 AM \nRaffle includes a 1st and 2nd Edition Big Books\, 50/50 cash drawing\, Speaker CD’s and Fellowship Books\nTicket 1 for $1.00 or 6 for $5.00 or 100 for $60.00 \n\n\nFlyers
URL:https://texas-al-anon.org/event/top-of-texas-roundup/
LOCATION:Amarillo Inn & Suites (used to be Clarion Hotel)\, 1911 I-40 E\, Amarillo\, TX\, 79102\, United States
CATEGORIES:AA Events with Al-Anon Participation,Conferences and Conventions
END:VEVENT
BEGIN:VEVENT
DTSTART;TZID=America/Chicago:20150814T080000
DTEND;TZID=America/Chicago:20150816T170000
DTSTAMP:20260422T053434
CREATED:20150518T162022Z
LAST-MODIFIED:20150518T162022Z
UID:4002-1439539200-1439744400@texas-al-anon.org
SUMMARY:Capital of Texas Conference
DESCRIPTION:An Experience You Must Not Miss\nCapital of Texas Conference \nAugust 14-16\, 2016 \nDouble Tree Hotel\n6505 IH-35 North\, Austin\, Texas\, 78752\nReservations: 512-454-3737\nRoom rate $99.00\nDiscount Code: CTA \nRegister Online\nEvent Flyer
URL:https://texas-al-anon.org/event/capital-of-texas-conference-2/
LOCATION:DoubleTree Hotel\, Austin\, TX\, 78752\, United States
CATEGORIES:Conferences and Conventions
END:VEVENT
BEGIN:VEVENT
DTSTART;TZID=America/Chicago:20150807T170000
DTEND;TZID=America/Chicago:20150809T170000
DTSTAMP:20260422T053434
CREATED:20150612T192519Z
LAST-MODIFIED:20150809T173527Z
UID:4076-1438966800-1439139600@texas-al-anon.org
SUMMARY:29th Annual Aggieland Convention
DESCRIPTION:29th Annual Aagieland Convention\nPrinciples Before Personalities \nAugust 7-9\, 2015 \nBest Western Old Town Center\n$119.00 if booked before July 12th \nSupport recovery in the Brazos Valley and join us\nfor a weekend filled with fun and fellowship! \nEmail questions to: aagieland@yahoo.com\nfacebook.com/aagielandconvention \nEvent Flyer
URL:https://texas-al-anon.org/event/29th-annual-aagieland-convention/
LOCATION:Best Western Old Town Center\, 1920 Austins Colony Pkwy\, Bryan\, TX\, 77802\, United States
CATEGORIES:Conferences and Conventions
END:VEVENT
BEGIN:VEVENT
DTSTART;TZID=America/Chicago:20150716T150000
DTEND;TZID=America/Chicago:20150719T120000
DTSTAMP:20260422T053434
CREATED:20150414T144759Z
LAST-MODIFIED:20150414T144759Z
UID:3839-1437058800-1437307200@texas-al-anon.org
SUMMARY:Alone No More: 41st Annual Lubbock Caprock Convention
DESCRIPTION:41st Lubbock Caprock Convention Flyer and registration form \nBadges required for all functions including discussion meetings \nAA Area and Al-Anon Archives on Display\nAll meetings are non-smoking\nHospitality Room closed during all speaker meetings\nSpecial convention room rates – $85.00 per night – make reservations by July 1\, 2015\nRequest rooms for Lubbock Caprock Convention to receive this rate. (806) 797-3241
URL:https://texas-al-anon.org/event/alone-no-more-41st-annual-lubbock-caprock-convention/
LOCATION:Clarion Hotel and Conference Center\, 3201 S Loop 289\, Lubbock\, TX\, 79423\, United States
CATEGORIES:AA Events with Al-Anon Participation,Conferences and Conventions
END:VEVENT
BEGIN:VEVENT
DTSTART;TZID=America/Chicago:20150522T160000
DTEND;TZID=America/Chicago:20150525T120000
DTSTAMP:20260422T053434
CREATED:20150323T142537Z
LAST-MODIFIED:20150323T142537Z
UID:3782-1432310400-1432555200@texas-al-anon.org
SUMMARY:Big D Roundup
DESCRIPTION:Big D Roundup Flyer \nBig D Roundup\n AA with Al-Anon participation\n(this years theme: Freedom)\nMemorial Day Weekend\nMay 22-25\n\nHilton Anatole Hotel\n2201 North Stemmons Freeway\nDallas\, TX 75207\n\nFriday 4:00pm-11:00pm\nSaturday 8:00am-11:00pm\nSunday 8:00am-11:00pm\nMonday 8:00am-12:00pm\n\nSaturday and Sunday: Mornings- 1 Al-Anon workshop followed by an Al-Anon Speaker\n                                    Afternoons- 2 Al-Anon workshops\nAl-Anon Speakers: Kathryn C (Atlanta)\n                               2nd Speaker TBD\n\nAA will have workshops during the day with AA speakers in the eve.\n\nRegistration @ www.bigdroundup.com $45.00
URL:https://texas-al-anon.org/event/big-d-roundup/
LOCATION:Hilton Anatole\, 2201 Stemmons Freeway\, Dallas\, TX\, 75207\, United States
CATEGORIES:AA Events with Al-Anon Participation,Conferences and Conventions
END:VEVENT
BEGIN:VEVENT
DTSTART;TZID=America/Chicago:20150306T080000
DTEND;TZID=America/Chicago:20150308T170000
DTSTAMP:20260422T053434
CREATED:20141002T183122Z
LAST-MODIFIED:20141002T183122Z
UID:3184-1425628800-1425834000@texas-al-anon.org
SUMMARY:SCRDM 2015
DESCRIPTION:SCRDM 2015\n\nAttached is a save the date flyer for the South Central Regional Delegates Meeting to be hosted by Texas West in Fort Worth\, Texas the weekend of March 6–8\, 2015.\n\nWatch your email for a comprehensive flyer with all the needed reservation information coming to you the first week in January!\n\nThis is a great opportunity for members in Texas West to learn how a new and current delegates prepares for Conference and how the past delegates contribute to that process.\n\nLois and Ann started a conversation in 1951 which continues today at WSC. Come and support our new and current delegates on their journey to the 2015 World Service Conference!\n\nThanks so much\nCindy K
URL:https://texas-al-anon.org/event/scrdm-2015/
LOCATION:Holday Inn DFW South\, Fort Worth\, TX\, United States
CATEGORIES:Conferences and Conventions,Service Opportunities,Workshops and Speaker Meetings
END:VEVENT
BEGIN:VEVENT
DTSTART;TZID=America/Chicago:20150220T080000
DTEND;TZID=America/Chicago:20150222T170000
DTSTAMP:20260422T053434
CREATED:20140506T183936Z
LAST-MODIFIED:20140908T231550Z
UID:2735-1424419200-1424624400@texas-al-anon.org
SUMMARY:ATAAC 2015- 36th All Texas Al-Anon Alateen Conference
DESCRIPTION:ATAAC_flyer_and_registration_form english revised \nATAAC_flyer_and_registration_formspanish revised \nSpeakers: \nEllen G. from California \nScott F. from Alabama \nJudith P. from Hawaii \nCindy K. from Texas \nStan M. from Texas (A.A.) \nMaria F. from Texas (Spanish)
URL:https://texas-al-anon.org/event/ataac-2015/
LOCATION:Westin Hotel\, 4545 West John Carpenter Fwy\, Irving\, TX\, 75063\, United States
CATEGORIES:Alateen Conferences,Conferences and Conventions,Workshops and Speaker Meetings
ORGANIZER;CN="Rene D":MAILTO:ataac2015@outlook.com
END:VEVENT
BEGIN:VEVENT
DTSTART;TZID=America/Chicago:20140426T130000
DTEND;TZID=America/Chicago:20140426T160000
DTSTAMP:20260422T053434
CREATED:20140416T134237Z
LAST-MODIFIED:20140416T134237Z
UID:2638-1398517200-1398528000@texas-al-anon.org
SUMMARY:District 6 2014 FUNDRAISER- Don't Miss It!
DESCRIPTION:When I got Busy\, I Got Better!\nJoin us for an afternoon of fund and friendship at our annual fundraiser! \nCONNECTIONS! REFRESHMENTS! PRESENTATIONS! \nSaturday April 26\,2014 \n1pm-4pm \nHamilton Park Pavilion\n2901 Hamilton Wichita Falls\, TX 76301 \n2014 Fundraiser Flyer- District 6
URL:https://texas-al-anon.org/event/d6-fundraiser/
LOCATION:Hamilton Park Pavilion\, 2901 Hamilton\, Wichita Falls\, TX\, 76301\, United States
CATEGORIES:Celebrations,Conferences and Conventions,Workshops and Speaker Meetings
END:VEVENT
BEGIN:VEVENT
DTSTART;TZID=America/Chicago:20140425T173000
DTEND;TZID=America/Chicago:20140425T200000
DTSTAMP:20260422T053434
CREATED:20140416T143316Z
LAST-MODIFIED:20140417T155225Z
UID:2646-1398447000-1398456000@texas-al-anon.org
SUMMARY:Tornado Roundup Fundraiser
DESCRIPTION:You are invited to attend the 4th annual Tornado Roundup with a kickoff Fajita Dinner fundraiser for Al-Anon 5:30pm Friday April 25th.\n\nThis year\, Tornado Roundup is a two-day event beginning Friday 4pm April 25thand closing 4pm Saturday April 26th with several recovery speakers\, great food\, and Silent Auction.\n\nOpen the attached Flyer for all information.\n\nAFG flyer Fundraiser Tornado 2014 8×11\n\nPlease RSVP with  Kaye P by April 21st for Fajita tickets and head-count.
URL:https://texas-al-anon.org/event/tormadoroudupfundraiser/
LOCATION:St. Paul’s\, 1510 Ave X\, Lubbock\, TX\, 79401\, United States
CATEGORIES:Celebrations,Conferences and Conventions,Workshops and Speaker Meetings
END:VEVENT
BEGIN:VEVENT
DTSTART;TZID=America/Chicago:20140425T163000
DTEND;TZID=America/Chicago:20140426T170000
DTSTAMP:20260422T053434
CREATED:20140417T155504Z
LAST-MODIFIED:20140417T155504Z
UID:2653-1398443400-1398531600@texas-al-anon.org
SUMMARY:4th Annual Tornado Roundup
DESCRIPTION:I Am Responsible- Let It Begin With Me! \nSilent Auction\, Dinner\, Speakers\, Fun\, and Fellowship! \n4th Tornado Roundup flyer
URL:https://texas-al-anon.org/event/tornado-roundup/
LOCATION:St. Paul’s\, 1510 Ave X\, Lubbock\, TX\, 79401\, United States
CATEGORIES:Celebrations,Conferences and Conventions,Workshops and Speaker Meetings
END:VEVENT
BEGIN:VEVENT
DTSTART;TZID=America/Chicago:20140222T020000
DTEND;TZID=America/Chicago:20140222T160000
DTSTAMP:20260422T053434
CREATED:20140127T143334Z
LAST-MODIFIED:20140127T143334Z
UID:2407-1393034400-1393084800@texas-al-anon.org
SUMMARY:19th Anniversary of Luz de Esperanza
DESCRIPTION:flyer- en espanol & english \nOn the occasion of our XIX Anniversary of our Family Group Al-Anon\n“Luz de Esperanza”\nInformation to Spanish speaking public on \nSaturday February 22\, 2014 at 2pm Taft 3410 \n(behind Bruce & Graciela Redwine Student Wellness Center) \nMSU\nWichita Falls Texas 76308\nFor more information call:\nElsa R. (940) 224-1926 / Maria A (940) 867-5769
URL:https://texas-al-anon.org/event/19th-anniversary-of-luz-de-esperanza/
LOCATION:MSU\, 3410 Taft\, Wichita Falls\, TX\, 76308\, United States
CATEGORIES:Bilingual needed,Conferences and Conventions,Service Opportunities,Workshops and Speaker Meetings
END:VEVENT
BEGIN:VEVENT
DTSTART;TZID=America/Chicago:20140207T150000
DTEND;TZID=America/Chicago:20140209T170000
DTSTAMP:20260422T053434
CREATED:20130627T151853Z
LAST-MODIFIED:20131127T031853Z
UID:1662-1391785200-1391965200@texas-al-anon.org
SUMMARY:2014 All Texas Al-Anon Alateen Conference
DESCRIPTION:Love Flows Freely \nFebruary 7 – 9\, 2014 at the Holiday Inn Midtown Austin\, 6000 Middle Fiskville Rd\, Austin\, TX 78752 \nFor Hotel Reservations call 888-300-6273 Or 512-451-5757 \nUse Group Code ALN\nRate: $89.00 King or Double\nThe Room Rate is guaranteed until January 20\, 2014 \nPre-Registration ends January 30\, 2014 \nThis year’s speakers will be: \n\nJudy K.\, Reno \, NV\nCarla\, B.\, Midland \, TX\nPalmer G.\, Miami FL\nValerie A.\, Durham \, NC\nElizabeth S.\, Verona \, NJ – Spanish Speaker\nDebbie G.\, Vista \, CA – AA speaker\n\nFor the registration flyer in English click here. \nFor the registration flyer in Español click here. \nFor more information email: ataac@austin.rr.com
URL:https://texas-al-anon.org/event/2014ataac/
LOCATION:Holiday Inn Midtown Austin\, 6000 Middle Fiskville Road \, Austin\, TX\, 78752\, United States
CATEGORIES:Conferences and Conventions
ORGANIZER;CN="ATAAC":MAILTO:ataacdallaschair2025@gmail.com
END:VEVENT
BEGIN:VEVENT
DTSTART;VALUE=DATE:20130928
DTEND;VALUE=DATE:20130929
DTSTAMP:20260422T053434
CREATED:20130627T152706Z
LAST-MODIFIED:20130627T152802Z
UID:1673-1380326400-1380412799@texas-al-anon.org
SUMMARY:East Texas AWSC Meeting
DESCRIPTION:Business Meeting begins Saturday at 10:30 AM and ends on Saturday when business has concluded. \nHotel accommodations are available at: Comfort Inn Ingleside\, 2800 State Highway 361. Tel: 361.775.2700. \nBe sure to ask for Kiran or Sharon – and the AWSC rate of $85.00 + tax per night for 4 (2 Q.beds) \n10 rooms are also available at local members’ homes as is assistance to/from the Corpus Christi Airport. \nContact Clare at 316.562.5575 to make reservations in homes or for additional information.
URL:https://texas-al-anon.org/event/eastawsc/
LOCATION:2764 Avenue A\, Ingleside\, TX\, 78362\, United States
CATEGORIES:Conferences and Conventions
END:VEVENT
BEGIN:VEVENT
DTSTART;TZID=America/Chicago:20130705T080000
DTEND;TZID=America/Chicago:20130707T170000
DTSTAMP:20260422T053434
CREATED:20130627T153540Z
LAST-MODIFIED:20130627T153627Z
UID:1682-1373011200-1373216400@texas-al-anon.org
SUMMARY:Al-Anon International Convention
DESCRIPTION:July 5-7\, 2013\nVancouver\, British Columbia\, Canada \n2013 CONVENTION flier \nCRUISE 2013 flier \nCruise Itinerary & Cost
URL:https://texas-al-anon.org/event/al-anon-international-convention/
LOCATION:Vancouver Convention Center\, 1055 Canada Place\, Vancouver\, BC\, v6c0c3\, Canada
CATEGORIES:Conferences and Conventions
ORGANIZER;CN="WSO":MAILTO:al-anoninternationalconvention@al-anon.org
END:VEVENT
END:VCALENDAR