BEGIN:VCALENDAR
VERSION:2.0
PRODID:-//Texas Al-Anon / Alateen - ECPv6.15.20//NONSGML v1.0//EN
CALSCALE:GREGORIAN
METHOD:PUBLISH
X-ORIGINAL-URL:https://texas-al-anon.org
X-WR-CALDESC:Events for Texas Al-Anon / Alateen
REFRESH-INTERVAL;VALUE=DURATION:PT1H
X-Robots-Tag:noindex
X-PUBLISHED-TTL:PT1H
BEGIN:VTIMEZONE
TZID:America/Chicago
BEGIN:DAYLIGHT
TZOFFSETFROM:-0600
TZOFFSETTO:-0500
TZNAME:CDT
DTSTART:20120311T080000
END:DAYLIGHT
BEGIN:STANDARD
TZOFFSETFROM:-0500
TZOFFSETTO:-0600
TZNAME:CST
DTSTART:20121104T070000
END:STANDARD
BEGIN:DAYLIGHT
TZOFFSETFROM:-0600
TZOFFSETTO:-0500
TZNAME:CDT
DTSTART:20130310T080000
END:DAYLIGHT
BEGIN:STANDARD
TZOFFSETFROM:-0500
TZOFFSETTO:-0600
TZNAME:CST
DTSTART:20131103T070000
END:STANDARD
BEGIN:DAYLIGHT
TZOFFSETFROM:-0600
TZOFFSETTO:-0500
TZNAME:CDT
DTSTART:20140309T080000
END:DAYLIGHT
BEGIN:STANDARD
TZOFFSETFROM:-0500
TZOFFSETTO:-0600
TZNAME:CST
DTSTART:20141102T070000
END:STANDARD
BEGIN:DAYLIGHT
TZOFFSETFROM:-0600
TZOFFSETTO:-0500
TZNAME:CDT
DTSTART:20150308T080000
END:DAYLIGHT
BEGIN:STANDARD
TZOFFSETFROM:-0500
TZOFFSETTO:-0600
TZNAME:CST
DTSTART:20151101T070000
END:STANDARD
BEGIN:DAYLIGHT
TZOFFSETFROM:-0600
TZOFFSETTO:-0500
TZNAME:CDT
DTSTART:20160313T080000
END:DAYLIGHT
BEGIN:STANDARD
TZOFFSETFROM:-0500
TZOFFSETTO:-0600
TZNAME:CST
DTSTART:20161106T070000
END:STANDARD
BEGIN:DAYLIGHT
TZOFFSETFROM:-0600
TZOFFSETTO:-0500
TZNAME:CDT
DTSTART:20170312T080000
END:DAYLIGHT
BEGIN:STANDARD
TZOFFSETFROM:-0500
TZOFFSETTO:-0600
TZNAME:CST
DTSTART:20171105T070000
END:STANDARD
BEGIN:DAYLIGHT
TZOFFSETFROM:-0600
TZOFFSETTO:-0500
TZNAME:CDT
DTSTART:20180311T080000
END:DAYLIGHT
BEGIN:STANDARD
TZOFFSETFROM:-0500
TZOFFSETTO:-0600
TZNAME:CST
DTSTART:20181104T070000
END:STANDARD
END:VTIMEZONE
BEGIN:VEVENT
DTSTART;TZID=America/Chicago:20170225T140000
DTEND;TZID=America/Chicago:20170225T170000
DTSTAMP:20260422T200109
CREATED:20170116T225741Z
LAST-MODIFIED:20170116T225741Z
UID:5553-1488031200-1488042000@texas-al-anon.org
SUMMARY:La información pública- Wichita Falls
DESCRIPTION:Si usted tiene un pariente o conocido conviviendo que está haciendo afectado con la manera de beber de un ser querido. Al-Anon le puede ayudar. Tendremos una información al público abierta. Si le puede ayudar a usted o si conoce a alguien. No dude en hacerle la invitación ya que esta junta de información al público puede abrirle la puerta aquel que piensa que no tiene salida. La situación más difícil puede mejorarse y la mayor infelicidad puede reducirse. \nFlyer
URL:https://texas-al-anon.org/event/la-informacion-publica-wichita-falls/
LOCATION:3424 Barnett Rd\, Wichita Falls\, TX\, 76309\, United States
CATEGORIES:Bilingual needed,Service Opportunities,Workshops and Speaker Meetings
END:VEVENT
BEGIN:VEVENT
DTSTART;TZID=America/Chicago:20160910T200000
DTEND;TZID=America/Chicago:20160910T220000
DTSTAMP:20260422T200109
CREATED:20160907T010614Z
LAST-MODIFIED:20160907T010614Z
UID:5181-1473537600-1473544800@texas-al-anon.org
SUMMARY:Movie Night Fundraiser
DESCRIPTION:AL-ANON Movie NIGHT Flyer \nRecaudación de fondos\, trabajando la séptima tradición! \nFundraiser supporting WSO \nApoyando la OSM \nmovie Night !!! movie Night!!! \nnoche de pelicula ! \n“When love is not enough” Lois and Bill Wilson Story \nPatrocinado/hosting: Grupo serenidad \nFecha/date: Saturday September 10th \nHora/time: 8pm \nDonde/where : 5685 Westcreek suite 309 Forth Worth Tx 76133 \nAdmision :$5 fun\, food\, fellowship diversion\, antojitos. y compañerismo los esperamos!!! más información/more information 682 351 7456 Cristina
URL:https://texas-al-anon.org/event/movie-night-fundraiser/
LOCATION:Legacy AFG\, 5685 Westcreek Dr\, Ste 309\, Fort Worth\, TX\, 76133\, United States
CATEGORIES:Al-Anon Fundraising Event,Bilingual needed
END:VEVENT
BEGIN:VEVENT
DTSTART;TZID=America/Chicago:20160417T140000
DTEND;TZID=America/Chicago:20160417T180000
DTSTAMP:20260422T200109
CREATED:20160323T183728Z
LAST-MODIFIED:20160323T183924Z
UID:4682-1460901600-1460916000@texas-al-anon.org
SUMMARY:Sendas de Recuperacion Aniversario
DESCRIPTION:Flyer: Sendas anniversary \nTiene el honor deinvitarlos a su 1 er. niversario que se llevara a cabo. \nCon temas consiernientes; Como ayuda Al-Anon a los familiars de los alcoholicos. \nTambien tendremos una Rica comida!! \nDe ante mano les agradecemos su presencia.
URL:https://texas-al-anon.org/event/sendas-de-recuperacion-aniversario/
LOCATION:Centro Comunitaro Wesley\, 3600 N. Crump St.\, Fort Worth\, TX\, 76106\, United States
CATEGORIES:Bilingual needed,Celebrations
END:VEVENT
BEGIN:VEVENT
DTSTART;TZID=America/Chicago:20160409T130000
DTEND;TZID=America/Chicago:20160409T160000
DTSTAMP:20260422T200109
CREATED:20160316T224453Z
LAST-MODIFIED:20160316T224627Z
UID:4666-1460206800-1460217600@texas-al-anon.org
SUMMARY:Grupo Serenidad Cuarto Aniversario
DESCRIPTION:Flyer: grupo serenidad anniversary al anon flyer \nEl Grupo de Familia Al-Anon “Serenidad”  \nLes Invita A Celebrar Su  \nCuarto Aniversario \nCon una junta de informacion publica con oradores\, que compartirán diferentes puntos de vista\, sobre como afecta el alcoholismo ala familia y a la sociedad. \n El Día Sabado 9 de Abril del 2016 \nDe 1:00 pm a 4:00 pm \n6021 Westcreek Dr.  \nFort Worth\, TX 76133 \n  \n¡Refrigerio y convivio 1-2pm! \n¡No Faltes
URL:https://texas-al-anon.org/event/grupo-serenidad-cuarto-aniversario/
LOCATION:Grupo Serenidad\, 6021 Westcreek Dr\, Fort Worth\, TX\, 76133\, United States
CATEGORIES:Bilingual needed,Celebrations
END:VEVENT
BEGIN:VEVENT
DTSTART;TZID=America/Chicago:20150828T180000
DTEND;TZID=America/Chicago:20150829T170000
DTSTAMP:20260422T200109
CREATED:20150810T185944Z
LAST-MODIFIED:20150810T185944Z
UID:4184-1440784800-1440867600@texas-al-anon.org
SUMMARY:La Felicidad al Alcance de mis Manos
DESCRIPTION:II Convension Hispana Estatal Al (1) \nEl Comite Permanente en la Cuidad de Dallas\, Tx.\,\nLes hace una Cordial Invitacion\, a todos los miembros Al-anon\, Al-ateen\na formar parte de esta Unidad\, mediante nuestra: \nIl Convencion Hispana Al-Anon Alateen \nViernes 6:00 – 8:00 pm Registraciones\, Apertura 7:00 pm.\nSabado: 9:00 am – 5:00 pm Agenda con diferentes Actividades \nTel. de Informacion Al-anon: CENA: Sabado 29\, 6:00 – 8:00 pm.\n(817) 408-5331\n(940) 257-3277 \nPlatillo: Adulto 30 dlls Nino 15 dlls. \nBAILE: 8:00 – 12:00 pm. \n  \n 
URL:https://texas-al-anon.org/event/la-felicidad-al-alcance-de-mis-manos/
LOCATION:Sterling Hotel\, 1055 Regal Row\, Dallas\, TX\, 75247\, United States
CATEGORIES:Bilingual needed,Workshops and Speaker Meetings
END:VEVENT
BEGIN:VEVENT
DTSTART;TZID=America/Chicago:20150228T140000
DTEND;TZID=America/Chicago:20150228T160000
DTSTAMP:20260422T200109
CREATED:20150209T210513Z
LAST-MODIFIED:20150209T210513Z
UID:3689-1425132000-1425139200@texas-al-anon.org
SUMMARY:Información al público- AL-ANON TE PUEDE AYUDAR
DESCRIPTION:Si usted está buscando una solución a los problemas originados por la convivencia con un alcohólico. También nosotros estamos familiarizados con promesas incumplidas\, buenas intenciones olvidadas\, preocupaciones y noches en vela. \n\nAl-Anon es una hermandad de familiares y amigos de alcohólicos en esta Hermandad puedes:\nHallar una forma más serena de ver la vida\nAprender acerca del alcoholismo como una enfermedad\nReemplazar la desesperación por esperanza\nMejorar el ambiente familiar\nAdquirir confianza en ti mismo/a\n\nspanish group Alanon flyer 2-28-15 \nInformación al público\nSábado 28 de Febrero 2015\n2pm-4pm\nNuestra Señora de Guadalupe\n421 Marconi\nWichita Falls\, TX 76301
URL:https://texas-al-anon.org/event/informacion-al-publico-al-anon-te-puede-ayudar/
LOCATION:Nuestra Señora de Guadalupe\, 421 Marconi\, Wichita falls\, TX\, 76301\, United States
CATEGORIES:Bilingual needed,Information Service Meetings
END:VEVENT
BEGIN:VEVENT
DTSTART;TZID=America/Chicago:20140402T100000
DTEND;TZID=America/Chicago:20140402T140000
DTSTAMP:20260422T200109
CREATED:20140304T144039Z
LAST-MODIFIED:20140304T144039Z
UID:2544-1396432800-1396447200@texas-al-anon.org
SUMMARY:TCC South Health Fair
DESCRIPTION:TCC South Health Fair 2014\nSouth Campus\n5301 Campus Drive\nFort Worth\, TX  76119\nWednesday\, April 2\, 2014\n10 am – 2 pm
URL:https://texas-al-anon.org/event/tcc-south-health-fair/
LOCATION:TCC South Campus\, 5301 Campus Drive\, Fort Worth\, TX\, 76119\, United States
CATEGORIES:Bilingual needed,Service Opportunities
ORGANIZER;CN="Karen B":MAILTO:karenfbr@verizon.net 
END:VEVENT
BEGIN:VEVENT
DTSTART;TZID=America/Chicago:20140329T133000
DTEND;TZID=America/Chicago:20140329T160000
DTSTAMP:20260422T200109
CREATED:20140121T224114Z
LAST-MODIFIED:20140304T144751Z
UID:2401-1396099800-1396108800@texas-al-anon.org
SUMMARY:Taller Resolucion de Conflictos Floreciendo en el servicio
DESCRIPTION:Spanish Flyer \nTaller \nResolucion de Conflictos \nFloreciendo en el servicio \nPor Debbe P; \nDelegada de Al-Anon Area 54 \nEl dia: 29 de Marzo\, 2014 \nHora: 1:30-4:00pm \nLugar: Grupo Que Empiece por mi \nSaint Mathew catholic church \n2121 New York st \nArlington\, Texas 76010
URL:https://texas-al-anon.org/event/delegateenespanol/
LOCATION:Grupo Que Empiece por mi\, 2121 New York St.\, Arlington\, TX\, 76010\, United States
CATEGORIES:Bilingual needed,Workshops and Speaker Meetings
END:VEVENT
BEGIN:VEVENT
DTSTART;TZID=America/Chicago:20140222T020000
DTEND;TZID=America/Chicago:20140222T160000
DTSTAMP:20260422T200109
CREATED:20140127T143334Z
LAST-MODIFIED:20140127T143334Z
UID:2407-1393034400-1393084800@texas-al-anon.org
SUMMARY:19th Anniversary of Luz de Esperanza
DESCRIPTION:flyer- en espanol & english \nOn the occasion of our XIX Anniversary of our Family Group Al-Anon\n“Luz de Esperanza”\nInformation to Spanish speaking public on \nSaturday February 22\, 2014 at 2pm Taft 3410 \n(behind Bruce & Graciela Redwine Student Wellness Center) \nMSU\nWichita Falls Texas 76308\nFor more information call:\nElsa R. (940) 224-1926 / Maria A (940) 867-5769
URL:https://texas-al-anon.org/event/19th-anniversary-of-luz-de-esperanza/
LOCATION:MSU\, 3410 Taft\, Wichita Falls\, TX\, 76308\, United States
CATEGORIES:Bilingual needed,Conferences and Conventions,Service Opportunities,Workshops and Speaker Meetings
END:VEVENT
BEGIN:VEVENT
DTSTART;TZID=America/Chicago:20131009T090000
DTEND;TZID=America/Chicago:20131009T140000
DTSTAMP:20260422T200109
CREATED:20130627T152422Z
LAST-MODIFIED:20130627T152422Z
UID:1670-1381309200-1381327200@texas-al-anon.org
SUMMARY:Health Fair and Blood Drive- TCC Northeast
DESCRIPTION:
URL:https://texas-al-anon.org/event/health-fair-and-blood-drive-tcc-northeast/
LOCATION:TCC Northeast Campus\, Center Corner (Room 1615A – NSTU)\, 828 W. Harwood Road\, Hurst\, TX\, 76054\, United States
CATEGORIES:Bilingual needed,Service Opportunities
ORGANIZER;CN="Karen B":MAILTO:karenfbr@verizon.net
END:VEVENT
BEGIN:VEVENT
DTSTART;TZID=America/Chicago:20130807T080000
DTEND;TZID=America/Chicago:20130807T140000
DTSTAMP:20260422T200109
CREATED:20130627T152935Z
LAST-MODIFIED:20130627T152935Z
UID:1676-1375862400-1375884000@texas-al-anon.org
SUMMARY:Tarrant County Back to School Roundup- Exhibitor Booths
DESCRIPTION:service opportunity- bilingual support greatly appreciated.
URL:https://texas-al-anon.org/event/tarrant-county-back-to-school-roundup-exhibitor-booths-2/
LOCATION:Amon G. Carter Jr. Exhibit Hall\, Will Rogers Memorial Center\, 3400 Burnett Tandy Drive\, Fort Worth\, TX\, 76107\, United States
CATEGORIES:Bilingual needed,Service Opportunities
ORGANIZER;CN="Karen B":MAILTO:karenfbr@verizon.net
END:VEVENT
BEGIN:VEVENT
DTSTART;TZID=America/Chicago:20130803T090000
DTEND;TZID=America/Chicago:20130803T140000
DTSTAMP:20260422T200109
CREATED:20130729T024905Z
LAST-MODIFIED:20130729T024905Z
UID:1783-1375520400-1375538400@texas-al-anon.org
SUMMARY:Hispanic Wellness Coalition
DESCRIPTION:15th Annual Hispanic Wellness Fair- Spanish speaking not required \nWill Rogers Memorial Center- Amon Carter Exhibit Hall \n 
URL:https://texas-al-anon.org/event/hispanic-wellness-coalition/
LOCATION:Amon G. Carter Jr. Exhibit Hall\, Will Rogers Center\, 3400 Burnett Tandy Drive\, Fort Worth\, TX\, 76107\, United States
CATEGORIES:Bilingual needed,Service Opportunities
ORGANIZER;CN="Karen B":MAILTO:karenfbr@verizon.net 
END:VEVENT
END:VCALENDAR