BEGIN:VCALENDAR
VERSION:2.0
PRODID:-//Texas Al-Anon / Alateen - ECPv6.15.20//NONSGML v1.0//EN
CALSCALE:GREGORIAN
METHOD:PUBLISH
X-WR-CALNAME:Texas Al-Anon / Alateen
X-ORIGINAL-URL:https://texas-al-anon.org
X-WR-CALDESC:Events for Texas Al-Anon / Alateen
REFRESH-INTERVAL;VALUE=DURATION:PT1H
X-Robots-Tag:noindex
X-PUBLISHED-TTL:PT1H
BEGIN:VTIMEZONE
TZID:America/Chicago
BEGIN:DAYLIGHT
TZOFFSETFROM:-0600
TZOFFSETTO:-0500
TZNAME:CDT
DTSTART:20230312T080000
END:DAYLIGHT
BEGIN:STANDARD
TZOFFSETFROM:-0500
TZOFFSETTO:-0600
TZNAME:CST
DTSTART:20231105T070000
END:STANDARD
BEGIN:DAYLIGHT
TZOFFSETFROM:-0600
TZOFFSETTO:-0500
TZNAME:CDT
DTSTART:20240310T080000
END:DAYLIGHT
BEGIN:STANDARD
TZOFFSETFROM:-0500
TZOFFSETTO:-0600
TZNAME:CST
DTSTART:20241103T070000
END:STANDARD
BEGIN:DAYLIGHT
TZOFFSETFROM:-0600
TZOFFSETTO:-0500
TZNAME:CDT
DTSTART:20250309T080000
END:DAYLIGHT
BEGIN:STANDARD
TZOFFSETFROM:-0500
TZOFFSETTO:-0600
TZNAME:CST
DTSTART:20251102T070000
END:STANDARD
END:VTIMEZONE
BEGIN:VEVENT
DTSTART;TZID=America/Chicago:20240720T090000
DTEND;TZID=America/Chicago:20240720T150000
DTSTAMP:20260425T105228
CREATED:20240605T105758Z
LAST-MODIFIED:20240605T110312Z
UID:11487-1721466000-1721487600@texas-al-anon.org
SUMMARY:A Day In Al-Anon Hosted By District 4
DESCRIPTION:District 4 is hosting it’s annual “A Day In Al-Anon event.  More details here
URL:https://texas-al-anon.org/event/11487/
LOCATION:First United Methodist Church Pearland\, 2314 N Grand Boulevard\, Pearland\, TX\, 77581\, United States
CATEGORIES:Al-Anon Fundraising Event
ORGANIZER;CN="District 4":MAILTO:ETAACreg_Spring2017@outlook.com
END:VEVENT
END:VCALENDAR